BEGIN:VCALENDAR
VERSION:2.0
PRODID:-// - ECPv4.6.7//NONSGML v1.0//EN
CALSCALE:GREGORIAN
METHOD:PUBLISH
X-WR-CALNAME:
X-ORIGINAL-URL:http://www.pirkkahameenkuvataiteilijat.net
X-WR-CALDESC:Events for 
BEGIN:VEVENT
DTSTART;VALUE=DATE:20241122
DTEND;VALUE=DATE:20250304
DTSTAMP:20260425T231812
CREATED:20241129T131953Z
LAST-MODIFIED:20241129T132327Z
UID:1861-1732233600-1741046399@www.pirkkahameenkuvataiteilijat.net
SUMMARY:"Mustaa vettä" – Sura Kangaspeska
DESCRIPTION:Sura Kangaspeskan näyttely ”Mustaa vettä” esillä Terveystalolla osoitteessa Pellavatehtaankatu 8\, 3. kerros. \n  \n \n
URL:http://www.pirkkahameenkuvataiteilijat.net/kalenteri/mustaa-vetta-sura-kangaspeska/
LOCATION:Pellavatehtaankatu 8\, Tampere
CATEGORIES:Näyttely
END:VEVENT
END:VCALENDAR