BEGIN:VCALENDAR
VERSION:2.0
PRODID:-// - ECPv4.6.7//NONSGML v1.0//EN
CALSCALE:GREGORIAN
METHOD:PUBLISH
X-WR-CALNAME:
X-ORIGINAL-URL:https://www.pirkkahameenkuvataiteilijat.net
X-WR-CALDESC:Events for 
BEGIN:VEVENT
DTSTART;VALUE=DATE:20190214
DTEND;VALUE=DATE:20190815
DTSTAMP:20260420T070326
CREATED:20190405T212548Z
LAST-MODIFIED:20190405T214030Z
UID:770-1550102400-1565827199@www.pirkkahameenkuvataiteilijat.net
SUMMARY:Hammaslääkäriasema
DESCRIPTION:Leena Joron maalauksia \n
URL:https://www.pirkkahameenkuvataiteilijat.net/kalenteri/hammaslaakariasema/
LOCATION:Hammaslääkäriasema 3.krs\, Käyntiosoite : Pellavatehtaankatu 8 E\, Tampere\, 33100
END:VEVENT
END:VCALENDAR