BEGIN:VCALENDAR
VERSION:2.0
PRODID:-// - ECPv4.6.7//NONSGML v1.0//EN
CALSCALE:GREGORIAN
METHOD:PUBLISH
X-WR-CALNAME:
X-ORIGINAL-URL:https://www.pirkkahameenkuvataiteilijat.net
X-WR-CALDESC:Events for 
BEGIN:VEVENT
DTSTART;VALUE=DATE:20180928
DTEND;VALUE=DATE:20190322
DTSTAMP:20260420T050528
CREATED:20180930T121049Z
LAST-MODIFIED:20181027T114319Z
UID:738-1538092800-1553212799@www.pirkkahameenkuvataiteilijat.net
SUMMARY:TAYS - Sisätautien poliklinikka
DESCRIPTION:Pirkka-Hämeen Kuvataiteilijat ry:n TAYSin Sisätautien poliklinikalla  olevassa näyttelyssä on esillä seuraavien taiteilijoiden teokset:\nKotimäki Maija\nRoivainen Katariina\nSinisalo Pekka\nTabell Jeroma\nVirtanen Sirkkaliisa\nViskari Marika \nSisätautien poliklinikka sijaitsee TAYSin A-rakennuksen ensimmäisessä kerroksessa.\nAvoinna arkisin klo 9:00-15:00. \n  \nNäyttelyssä on esillä mm. seuraavat Pekka Sinisalon 56 x 76 cm kokoiset akvarelliteokset vuodelta 2018. \nPlataanit\nOstia Antica\nSyksy\n  \n
URL:https://www.pirkkahameenkuvataiteilijat.net/kalenteri/tays-sisatautien-poliklinikka-2/
LOCATION:Tays\,sisätautipoliklinikka\, Elämänaukio 2\, Tampere\, 33520\, Suomi
CATEGORIES:Näyttely
END:VEVENT
END:VCALENDAR